BEGIN:VCALENDAR
VERSION:2.0
PRODID:-//Tukios.com/
BEGIN:VEVENT
UID:68d648e7-7a2c-4d52-9078-70b827cb2900@www.nealfh.com
DTSTAMP:20260421T014723Z
DTSTART:20260422T230000Z
DTEND:20260423T020000Z
SUMMARY:Visitation
DESCRIPTION:
URL:https://www.nealfh.com/obituaries/celia-walle-delgadillo
LOCATION: 200 S Washington Ave  Cleveland TX 77327
GEO:30.3417599;-95.091174
END:VEVENT
END:VCALENDAR