BEGIN:VCALENDAR
VERSION:2.0
PRODID:-//Tukios.com/
BEGIN:VEVENT
UID:e2f14e58-8468-4535-8f69-4c98a3c5d1ba@www.nealfh.com
DTSTAMP:20260422T213651Z
DTSTART:20260426T190000Z
DTEND:20260426T200000Z
SUMMARY:Celebration of Life
DESCRIPTION:
URL:https://www.nealfh.com/obituaries/erich-ireland
LOCATION: 200 S Washington Ave  Cleveland TX 77327
GEO:30.3417599;-95.091174
END:VEVENT
END:VCALENDAR