BEGIN:VCALENDAR
VERSION:2.0
PRODID:-//Tukios.com/
BEGIN:VEVENT
UID:5191b162-ecf7-4c2f-a3be-e320c296b2b8@www.nealfh.com
DTSTAMP:20260421T194840Z
DTSTART:20260425T220000Z
DTEND:20260425T230000Z
SUMMARY:Funeral Service
DESCRIPTION:
URL:https://www.nealfh.com/obituaries/jose-nevarez
LOCATION: 200 S Washington Ave  Cleveland TX 77327
GEO:30.3417599;-95.091174
END:VEVENT
END:VCALENDAR