BEGIN:VCALENDAR
VERSION:2.0
PRODID:-//Tukios.com/
BEGIN:VEVENT
UID:3bddee9b-6fe6-428e-9734-c731d8a2a8d1@www.nealfh.com
DTSTAMP:20260420T230310Z
DTSTART:20260424
SUMMARY:Interment
DESCRIPTION:
URL:https://www.nealfh.com/obituaries/lewis-hightower
LOCATION:    Cleveland TX 77327
GEO:30.3479553;-95.0775743
END:VEVENT
END:VCALENDAR