BEGIN:VCALENDAR
VERSION:2.0
PRODID:-//Tukios.com/
BEGIN:VEVENT
UID:6348b89a-1f7c-46f9-a383-3f78f767faba@www.nealfh.com
DTSTAMP:20260420T230106Z
DTSTART:20260423T230000Z
DTEND:20260424T010000Z
SUMMARY:Visitation
DESCRIPTION:
URL:https://www.nealfh.com/obituaries/lewis-hightower
LOCATION: 200 S Washington Ave  Cleveland TX 77327
GEO:30.3417599;-95.091174
END:VEVENT
END:VCALENDAR