BEGIN:VCALENDAR
VERSION:2.0
PRODID:-//Tukios.com/
BEGIN:VEVENT
UID:c31d0100-bc39-4d79-8df9-24bc106dc5e8@www.nealfh.com
DTSTAMP:20260420T230106Z
DTSTART:20260424T150000Z
DTEND:20260424T160000Z
SUMMARY:Funeral Service
DESCRIPTION:
URL:https://www.nealfh.com/obituaries/lewis-hightower
LOCATION: 200 S Washington Ave  Cleveland TX 77327
GEO:30.3417599;-95.091174
END:VEVENT
END:VCALENDAR